BEGIN:VCALENDAR
PRODID:-//Pixl8//Eventfolio//EN
VERSION:2.0
X-WR-TIMEZONE:America/New_York
CALSCALE:GREGORIAN
METHOD:PUBLISH
CLASS:PUBLIC
BEGIN:VTIMEZONE
TZID:America/New_York
LAST-MODIFIED:20260306T231828Z
TZURL:https://www.tzurl.org/zoneinfo-outlook/America/New_York
X-LIC-LOCATION:America/New_York
BEGIN:DAYLIGHT
TZNAME:EDT
TZOFFSETFROM:-0500
TZOFFSETTO:-0400
DTSTART:19700308T020000
RRULE:FREQ=YEARLY;BYMONTH=3;BYDAY=2SU
END:DAYLIGHT
BEGIN:STANDARD
TZNAME:EST
TZOFFSETFROM:-0400
TZOFFSETTO:-0500
DTSTART:19701101T020000
RRULE:FREQ=YEARLY;BYMONTH=11;BYDAY=1SU
END:STANDARD
END:VTIMEZONE
BEGIN:VEVENT
DTSTART;TZID=America/New_York:20260127T100000
DTEND;TZID=America/New_York:20260127T200000
DTSTAMP:20260425T215633Z
UID:{CE4C6EF6-89AF-4DA6-B301A3D1F15D9555.46049}
LOCATION:Charlotte Harbor Event and Conference Center
SUMMARY:Looper-palooza
DESCRIPTION:Join AGLCA for the 2026 Looper-palooza in Punta Gorda, FL!\n
 \n
 Event details: https://www.greatloop.org/ems-event-calendar/looper-palooza-jan-2026.html
PRIORITY:1
END:VEVENT
BEGIN:VEVENT
DTSTART;TZID=America/New_York:20260128T074500
DTEND;TZID=America/New_York:20260128T213000
DTSTAMP:20260425T215633Z
UID:{CE4C6EF6-89AF-4DA6-B301A3D1F15D9555.46050}
LOCATION:Charlotte Harbor Event and Conference Center
SUMMARY:Looper-palooza
DESCRIPTION:Join AGLCA for the 2026 Looper-palooza in Punta Gorda, FL!\n
 \n
 Event details: https://www.greatloop.org/ems-event-calendar/looper-palooza-jan-2026.html
PRIORITY:1
END:VEVENT
BEGIN:VEVENT
DTSTART;TZID=America/New_York:20260129T080000
DTEND;TZID=America/New_York:20260129T210000
DTSTAMP:20260425T215633Z
UID:{CE4C6EF6-89AF-4DA6-B301A3D1F15D9555.46051}
LOCATION:Charlotte Harbor Event and Conference Center
SUMMARY:Looper-palooza
DESCRIPTION:Join AGLCA for the 2026 Looper-palooza in Punta Gorda, FL!\n
 \n
 Event details: https://www.greatloop.org/ems-event-calendar/looper-palooza-jan-2026.html
PRIORITY:1
END:VEVENT
END:VCALENDAR