BEGIN:VCALENDAR
PRODID:-//Pixl8//Eventfolio//EN
VERSION:2.0
X-WR-TIMEZONE:America/New_York
CALSCALE:GREGORIAN
METHOD:PUBLISH
CLASS:PUBLIC
BEGIN:VTIMEZONE
TZID:America/New_York
LAST-MODIFIED:20260306T231828Z
TZURL:https://www.tzurl.org/zoneinfo-outlook/America/New_York
X-LIC-LOCATION:America/New_York
BEGIN:DAYLIGHT
TZNAME:EDT
TZOFFSETFROM:-0500
TZOFFSETTO:-0400
DTSTART:19700308T020000
RRULE:FREQ=YEARLY;BYMONTH=3;BYDAY=2SU
END:DAYLIGHT
BEGIN:STANDARD
TZNAME:EST
TZOFFSETFROM:-0400
TZOFFSETTO:-0500
DTSTART:19701101T020000
RRULE:FREQ=YEARLY;BYMONTH=11;BYDAY=1SU
END:STANDARD
END:VTIMEZONE
BEGIN:VEVENT
DTSTART;TZID=America/New_York:20260127T140000
DTEND;TZID=America/New_York:20260127T200000
DTSTAMP:20260421T151137Z
UID:{760504BC-A48E-4070-B5347261A51CAAA8.46049}
LOCATION:Charlotte Harbor Event and Conference Center
SUMMARY:Gold Looper Reunion 2026
DESCRIPTION:Re-connect with your fellow Loopers at the 2026 Gold Looper Reunion in Punta Gorda, FL!\n
 \n
 Event details: https://www.greatloop.org/ems-event-calendar/gold-looper-reunion-2026.html
PRIORITY:1
END:VEVENT
BEGIN:VEVENT
DTSTART;TZID=America/New_York:20260128T080000
DTEND;TZID=America/New_York:20260128T183000
DTSTAMP:20260421T151137Z
UID:{760504BC-A48E-4070-B5347261A51CAAA8.46050}
LOCATION:Charlotte Harbor Event and Conference Center
SUMMARY:Gold Looper Reunion 2026
DESCRIPTION:Re-connect with your fellow Loopers at the 2026 Gold Looper Reunion in Punta Gorda, FL!\n
 \n
 Event details: https://www.greatloop.org/ems-event-calendar/gold-looper-reunion-2026.html
PRIORITY:1
END:VEVENT
END:VCALENDAR